BEGIN:VCALENDAR
VERSION:2.0
PRODID:-//Koliba Real Estate/EPL//NONSGML v1.0//EN
METHOD:PUBLISH
BEGIN:VEVENT
DTSTART:20210227T100000
DTEND:20210227T102000
LOCATION:21 Tandee Road Dernancourt, SA 5075
URL:https://koliba.com.au/rental/21-tandee-road-dernancourt-sa-5075/
TRANSP:OPAQUE
SEQUENCE:0
UID:4891614360551
DTSTAMP:20210226T065911Z
SUMMARY:Home Open - Position Perfect - Cul De Sac Living
DESCRIPTION:Beautifully presented family home in a fantastic location.  No Pets. \n\nBe prepared to fall in love -\n- 3 generous size bedrooms\n- Large living area with gas heating\n- Well presented kitchen combined with meals area\n- 1 bathroom with a separate toilet\n- Laundry with access to rear yard\n- Rear outdoor area\n- Enclosed Verandah/sunroom \n- Front carport with lock up gate\n- Stainless steel appliances and dishwasher\n- Built in robes to bedrooms\n- Ceiling fans to all three bedrooms\n\nTree lined cul de sac living with the reserve and Dernancourt community garden at your doorstep. Public transport is also within walking distance as well as the Hope Valley walking trails.
PRIORITY:1
CLASS:PUBLIC
BEGIN:VALARM
TRIGGER:-PT10080M
ACTION:DISPLAY
DESCRIPTION:Reminder
END:VALARM
END:VEVENT
END:VCALENDAR
